BEGIN:VCALENDAR
VERSION:2.0
PRODID:icalendar-ruby
CALSCALE:GREGORIAN
METHOD:PUBLISH
BEGIN:VEVENT
DTSTAMP:20260425T194139Z
UID:8-2191664@gracechapelwl.org
DTSTART:20261021T230000Z
DTEND:20261022T000000Z
CLASS:PUBLIC
CREATED:20260425T144247
DESCRIPTION:\nAdult Prayer Meeting\nYouth Group (Grades 7-12)\nBible Club (
 Grades 1-6)\nNursery\n
LAST-MODIFIED:20260425T144247
LOCATION:
SUMMARY:Wednesday Night Activities
URL;VALUE=URI:https://www.gracechapelwl.org/events/wednesday-night-activiti
 es/2026-10-21
END:VEVENT
END:VCALENDAR
