BEGIN:VCALENDAR
VERSION:2.0
PRODID:icalendar-ruby
CALSCALE:GREGORIAN
METHOD:PUBLISH
BEGIN:VEVENT
DTSTAMP:20260425T141549Z
UID:8-2189577@gracechapelwl.org
DTSTART:20260930T230000Z
DTEND:20261001T000000Z
CLASS:PUBLIC
CREATED:20260425T092204
DESCRIPTION:\nAdult Prayer Meeting\nYouth Group (Grades 7-12)\nBible Club (
 Grades 1-6)\nNursery\n
LAST-MODIFIED:20260425T092204
LOCATION:
SUMMARY:Wednesday Night Activities
URL;VALUE=URI:https://www.gracechapelwl.org/events/wednesday-night-activiti
 es/2026-09-30
END:VEVENT
END:VCALENDAR
