BEGIN:VCALENDAR
VERSION:2.0
PRODID:icalendar-ruby
CALSCALE:GREGORIAN
METHOD:PUBLISH
BEGIN:VEVENT
DTSTAMP:20260425T103847Z
UID:8-2187491@gracechapelwl.org
DTSTART:20260916T230000Z
DTEND:20260917T000000Z
CLASS:PUBLIC
CREATED:20260424T205102
DESCRIPTION:\nAdult Prayer Meeting\nYouth Group (Grades 7-12)\nBible Club (
 Grades 1-6)\nNursery\n
LAST-MODIFIED:20260424T205102
LOCATION:
SUMMARY:Wednesday Night Activities
URL;VALUE=URI:https://www.gracechapelwl.org/events/wednesday-night-activiti
 es/2026-09-16
END:VEVENT
END:VCALENDAR
