BEGIN:VCALENDAR
VERSION:2.0
PRODID:icalendar-ruby
CALSCALE:GREGORIAN
METHOD:PUBLISH
BEGIN:VEVENT
DTSTAMP:20260421T091749Z
UID:8-2162494@gracechapelwl.org
DTSTART:20260909T230000Z
DTEND:20260910T000000Z
CLASS:PUBLIC
CREATED:20260420T193304
DESCRIPTION:\nAdult Prayer Meeting\nYouth Group (Grades 7-12)\nBible Club (
 Grades 1-6)\nNursery\n
LAST-MODIFIED:20260420T193304
LOCATION:
SUMMARY:Wednesday Night Activities
URL;VALUE=URI:https://www.gracechapelwl.org/events/wednesday-night-activiti
 es/2026-09-09
END:VEVENT
END:VCALENDAR
