BEGIN:VCALENDAR
VERSION:2.0
PRODID:icalendar-ruby
CALSCALE:GREGORIAN
METHOD:PUBLISH
BEGIN:VEVENT
DTSTAMP:20260423T134823Z
UID:6-2176382@gracechapelwl.org
DTSTART:20261101T140000Z
DTEND:20261101T150000Z
CLASS:PUBLIC
CREATED:20260423T093841
DESCRIPTION:
LAST-MODIFIED:20260423T093841
LOCATION:
SUMMARY:Sunday School
URL;VALUE=URI:https://www.gracechapelwl.org/events/sunday-school/2026-11-01
END:VEVENT
END:VCALENDAR
