BEGIN:VCALENDAR
VERSION:2.0
PRODID:icalendar-ruby
CALSCALE:GREGORIAN
METHOD:PUBLISH
BEGIN:VEVENT
DTSTAMP:20260423T115342Z
UID:6-2175339@gracechapelwl.org
DTSTART:20261025T130000Z
DTEND:20261025T140000Z
CLASS:PUBLIC
CREATED:20260423T064321
DESCRIPTION:
LAST-MODIFIED:20260423T064321
LOCATION:
SUMMARY:Sunday School
URL;VALUE=URI:https://www.gracechapelwl.org/events/sunday-school/2026-10-25
END:VEVENT
END:VCALENDAR
