BEGIN:VCALENDAR
VERSION:2.0
PRODID:icalendar-ruby
CALSCALE:GREGORIAN
METHOD:PUBLISH
BEGIN:VEVENT
DTSTAMP:20260423T101633Z
UID:6-2174296@gracechapelwl.org
DTSTART:20261018T130000Z
DTEND:20261018T140000Z
CLASS:PUBLIC
CREATED:20260422T211415
DESCRIPTION:
LAST-MODIFIED:20260422T211415
LOCATION:
SUMMARY:Sunday School
URL;VALUE=URI:https://www.gracechapelwl.org/events/sunday-school/2026-10-18
END:VEVENT
END:VCALENDAR
