BEGIN:VCALENDAR
VERSION:2.0
PRODID:icalendar-ruby
CALSCALE:GREGORIAN
METHOD:PUBLISH
BEGIN:VEVENT
DTSTAMP:20260421T090141Z
UID:6-2161803@gracechapelwl.org
DTSTART:20261011T130000Z
DTEND:20261011T140000Z
CLASS:PUBLIC
CREATED:20260420T193303
DESCRIPTION:
LAST-MODIFIED:20260420T193303
LOCATION:
SUMMARY:Sunday School
URL;VALUE=URI:https://www.gracechapelwl.org/events/sunday-school/2026-10-11
END:VEVENT
END:VCALENDAR
